BEGIN:VCALENDAR
VERSION:2.0
PRODID:-//Lourdes Academy - ECPv6.15.20//NONSGML v1.0//EN
CALSCALE:GREGORIAN
METHOD:PUBLISH
X-ORIGINAL-URL:https://olla.org
X-WR-CALDESC:Events for Lourdes Academy
REFRESH-INTERVAL;VALUE=DURATION:PT1H
X-Robots-Tag:noindex
X-PUBLISHED-TTL:PT1H
BEGIN:VTIMEZONE
TZID:America/New_York
BEGIN:DAYLIGHT
TZOFFSETFROM:-0500
TZOFFSETTO:-0400
TZNAME:EDT
DTSTART:20240310T070000
END:DAYLIGHT
BEGIN:STANDARD
TZOFFSETFROM:-0400
TZOFFSETTO:-0500
TZNAME:EST
DTSTART:20241103T060000
END:STANDARD
BEGIN:DAYLIGHT
TZOFFSETFROM:-0500
TZOFFSETTO:-0400
TZNAME:EDT
DTSTART:20250309T070000
END:DAYLIGHT
BEGIN:STANDARD
TZOFFSETFROM:-0400
TZOFFSETTO:-0500
TZNAME:EST
DTSTART:20251102T060000
END:STANDARD
BEGIN:DAYLIGHT
TZOFFSETFROM:-0500
TZOFFSETTO:-0400
TZNAME:EDT
DTSTART:20260308T070000
END:DAYLIGHT
BEGIN:STANDARD
TZOFFSETFROM:-0400
TZOFFSETTO:-0500
TZNAME:EST
DTSTART:20261101T060000
END:STANDARD
END:VTIMEZONE
BEGIN:VEVENT
DTSTART;TZID=America/New_York:20250724T143000
DTEND;TZID=America/New_York:20250724T144500
DTSTAMP:20260422T110459
CREATED:20240531T183242Z
LAST-MODIFIED:20240602T183216Z
UID:10003604-1753367400-1753368300@olla.org
SUMMARY:Weekly Rosary
DESCRIPTION:
URL:https://olla.org/event/weekly-rosary-136/
LOCATION:FL
CATEGORIES:Main
END:VEVENT
BEGIN:VEVENT
DTSTART;TZID=America/New_York:20250728T090000
DTEND;TZID=America/New_York:20250801T160000
DTSTAMP:20260422T110459
CREATED:20250305T172449Z
LAST-MODIFIED:20250801T172345Z
UID:10004838-1753693200-1754064000@olla.org
SUMMARY:Volleyball Tryouts- Gym
DESCRIPTION:
URL:https://olla.org/event/volleyball-tryouts-gym/
LOCATION:Our Lady of Lourdes Academy\, 5525 SW 84th St\, South Miami\, FL\, United States
CATEGORIES:Main
GEO:25.693458;-80.282479
X-APPLE-STRUCTURED-LOCATION;VALUE=URI;X-ADDRESS=Our Lady of Lourdes Academy 5525 SW 84th St South Miami FL United States;X-APPLE-RADIUS=500;X-TITLE=5525 SW 84th St:geo:-80.282479,25.693458
END:VEVENT
BEGIN:VEVENT
DTSTART;TZID=America/New_York:20250728T160000
DTEND;TZID=America/New_York:20250801T190000
DTSTAMP:20260422T110459
CREATED:20250305T172448Z
LAST-MODIFIED:20250801T172344Z
UID:10004837-1753718400-1754074800@olla.org
SUMMARY:Elite Soccer Camp- Gym
DESCRIPTION:
URL:https://olla.org/event/elite-soccer-camp-gym/
LOCATION:Our Lady of Lourdes Academy\, 5525 SW 84th St\, South Miami\, FL\, United States
CATEGORIES:Main
GEO:25.693458;-80.282479
X-APPLE-STRUCTURED-LOCATION;VALUE=URI;X-ADDRESS=Our Lady of Lourdes Academy 5525 SW 84th St South Miami FL United States;X-APPLE-RADIUS=500;X-TITLE=5525 SW 84th St:geo:-80.282479,25.693458
END:VEVENT
BEGIN:VEVENT
DTSTART;TZID=America/New_York:20250728T183000
DTEND;TZID=America/New_York:20250728T203000
DTSTAMP:20260422T110459
CREATED:20250723T160838Z
LAST-MODIFIED:20250728T172339Z
UID:10005249-1753727400-1753734600@olla.org
SUMMARY:Rowing Informational Meeting
DESCRIPTION:
URL:https://olla.org/event/rowing-informational-meeting/
LOCATION:FL
CATEGORIES:Main
END:VEVENT
BEGIN:VEVENT
DTSTART;TZID=America/New_York:20250731T143000
DTEND;TZID=America/New_York:20250731T144500
DTSTAMP:20260422T110459
CREATED:20240531T183243Z
LAST-MODIFIED:20240602T183216Z
UID:10003605-1753972200-1753973100@olla.org
SUMMARY:Weekly Rosary
DESCRIPTION:
URL:https://olla.org/event/weekly-rosary-137/
LOCATION:FL
CATEGORIES:Main
END:VEVENT
BEGIN:VEVENT
DTSTART;TZID=America/New_York:20250801T080000
DTEND;TZID=America/New_York:20250801T130000
DTSTAMP:20260422T110459
CREATED:20250321T190921Z
LAST-MODIFIED:20250731T172342Z
UID:10004846-1754035200-1754053200@olla.org
SUMMARY:"New Team OLLA" Orientation
DESCRIPTION:
URL:https://olla.org/event/new-team-olla-orientation-3/
LOCATION:FL
CATEGORIES:Main
END:VEVENT
BEGIN:VEVENT
DTSTART;TZID=America/New_York:20250801T080000
DTEND;TZID=America/New_York:20250801T150000
DTSTAMP:20260422T110459
CREATED:20250529T103845Z
LAST-MODIFIED:20250801T172344Z
UID:10004983-1754035200-1754060400@olla.org
SUMMARY:ADOM Principals' Mtg.
DESCRIPTION:
URL:https://olla.org/event/adom-principals-mtg/
LOCATION:FL
CATEGORIES:Main
END:VEVENT
BEGIN:VEVENT
DTSTART;TZID=America/New_York:20250802T090000
DTEND;TZID=America/New_York:20250802T160000
DTSTAMP:20260422T110459
CREATED:20250609T230833Z
LAST-MODIFIED:20250802T015347Z
UID:10005194-1754125200-1754150400@olla.org
SUMMARY:Volleyball Media Day-GYM
DESCRIPTION:
URL:https://olla.org/event/volleyball-media-day-gym/
LOCATION:Our Lady of Lourdes Academy\, 5525 SW 84th St\, South Miami\, FL\, United States
CATEGORIES:Volleyball
GEO:25.693458;-80.282479
X-APPLE-STRUCTURED-LOCATION;VALUE=URI;X-ADDRESS=Our Lady of Lourdes Academy 5525 SW 84th St South Miami FL United States;X-APPLE-RADIUS=500;X-TITLE=5525 SW 84th St:geo:-80.282479,25.693458
END:VEVENT
BEGIN:VEVENT
DTSTART;TZID=America/New_York:20250802T090000
DTEND;TZID=America/New_York:20250802T160000
DTSTAMP:20260422T110459
CREATED:20250610T112342Z
LAST-MODIFIED:20250802T172338Z
UID:10005195-1754125200-1754150400@olla.org
SUMMARY:Volleyball Media Day-GYM
DESCRIPTION:
URL:https://olla.org/event/volleyball-media-day-gym-2/
LOCATION:Our Lady of Lourdes Academy\, 5525 SW 84th St\, South Miami\, FL\, United States
CATEGORIES:Main
GEO:25.693458;-80.282479
X-APPLE-STRUCTURED-LOCATION;VALUE=URI;X-ADDRESS=Our Lady of Lourdes Academy 5525 SW 84th St South Miami FL United States;X-APPLE-RADIUS=500;X-TITLE=5525 SW 84th St:geo:-80.282479,25.693458
END:VEVENT
BEGIN:VEVENT
DTSTART;VALUE=DATE:20250804
DTEND;VALUE=DATE:20250809
DTSTAMP:20260422T110459
CREATED:20250305T172449Z
LAST-MODIFIED:20250808T182350Z
UID:10004839-1754265600-1754697599@olla.org
SUMMARY:Volleyball - GYM
DESCRIPTION:
URL:https://olla.org/event/volleyball-gym/
LOCATION:FL
CATEGORIES:Main
END:VEVENT
BEGIN:VEVENT
DTSTART;TZID=America/New_York:20250804T083000
DTEND;TZID=America/New_York:20250804T120000
DTSTAMP:20260422T110459
CREATED:20250321T190922Z
LAST-MODIFIED:20250802T172339Z
UID:10004848-1754296200-1754308800@olla.org
SUMMARY:ADOM New Teacher Orientation (AM)
DESCRIPTION:
URL:https://olla.org/event/adom-new-teacher-orientationam/
LOCATION:Monsignor Edward Pace High School\, 15600 NW 32nd Ave\, Opa-locka\, FL\, United States
CATEGORIES:Main
GEO:25.915927;-80.25226
X-APPLE-STRUCTURED-LOCATION;VALUE=URI;X-ADDRESS=Monsignor Edward Pace High School 15600 NW 32nd Ave Opa-locka FL United States;X-APPLE-RADIUS=500;X-TITLE=15600 NW 32nd Ave:geo:-80.25226,25.915927
END:VEVENT
BEGIN:VEVENT
DTSTART;TZID=America/New_York:20250804T090000
DTEND;TZID=America/New_York:20250804T113000
DTSTAMP:20260422T110459
CREATED:20250321T190922Z
LAST-MODIFIED:20250802T172339Z
UID:10004847-1754298000-1754307000@olla.org
SUMMARY:College Jumpstart Lab
DESCRIPTION:
URL:https://olla.org/event/college-jumpstart-lab-4/
LOCATION:FL
CATEGORIES:Main
END:VEVENT
BEGIN:VEVENT
DTSTART;VALUE=DATE:20250805
DTEND;VALUE=DATE:20250806
DTSTAMP:20260422T110459
CREATED:20250529T103846Z
LAST-MODIFIED:20250805T182337Z
UID:10004984-1754352000-1754438399@olla.org
SUMMARY:First Day for Teachers-TeamOLLA Meeting
DESCRIPTION:
URL:https://olla.org/event/first-day-for-teachers-teamolla-meeting/
LOCATION:FL
CATEGORIES:Main
END:VEVENT
BEGIN:VEVENT
DTSTART;TZID=America/New_York:20250806T073000
DTEND;TZID=America/New_York:20250806T103000
DTSTAMP:20260422T110459
CREATED:20250325T194043Z
LAST-MODIFIED:20250805T182337Z
UID:10004852-1754465400-1754476200@olla.org
SUMMARY:Team OLLA Picture Day
DESCRIPTION:
URL:https://olla.org/event/team-olla-picture-day-2/
LOCATION:Auditorium
CATEGORIES:Main
END:VEVENT
BEGIN:VEVENT
DTSTART;TZID=America/New_York:20250806T130000
DTEND;TZID=America/New_York:20250806T150000
DTSTAMP:20260422T110459
CREATED:20250325T194044Z
LAST-MODIFIED:20250806T182344Z
UID:10004853-1754485200-1754492400@olla.org
SUMMARY:College Essay Workshops
DESCRIPTION:
URL:https://olla.org/event/college-essay-workshops/
LOCATION:FL
CATEGORIES:Main
END:VEVENT
BEGIN:VEVENT
DTSTART;VALUE=DATE:20250807
DTEND;VALUE=DATE:20250808
DTSTAMP:20260422T110459
CREATED:20250529T103847Z
LAST-MODIFIED:20250807T182343Z
UID:10004985-1754524800-1754611199@olla.org
SUMMARY:Bernadette Candidate Parent Meeting
DESCRIPTION:
URL:https://olla.org/event/bernadette-candidate-parent-meeting/
LOCATION:FL
CATEGORIES:Main
END:VEVENT
BEGIN:VEVENT
DTSTART;VALUE=DATE:20250807
DTEND;VALUE=DATE:20250808
DTSTAMP:20260422T110459
CREATED:20250529T103847Z
LAST-MODIFIED:20250807T182343Z
UID:10004986-1754524800-1754611199@olla.org
SUMMARY:TeamOLLA Mass & Retreat
DESCRIPTION:
URL:https://olla.org/event/teamolla-mass-retreat/
LOCATION:FL
CATEGORIES:Main
END:VEVENT
BEGIN:VEVENT
DTSTART;TZID=America/New_York:20250807T143000
DTEND;TZID=America/New_York:20250807T144500
DTSTAMP:20260422T110459
CREATED:20240531T183243Z
LAST-MODIFIED:20240602T183217Z
UID:10003606-1754577000-1754577900@olla.org
SUMMARY:Weekly Rosary
DESCRIPTION:
URL:https://olla.org/event/weekly-rosary-138/
LOCATION:FL
CATEGORIES:Main
END:VEVENT
BEGIN:VEVENT
DTSTART;TZID=America/New_York:20250808T090000
DTEND;TZID=America/New_York:20250808T113000
DTSTAMP:20260422T110459
CREATED:20250325T194044Z
LAST-MODIFIED:20250807T182344Z
UID:10004854-1754643600-1754652600@olla.org
SUMMARY:College Jumpstart Lab
DESCRIPTION:
URL:https://olla.org/event/college-jumpstart-lab-5/
LOCATION:FL
CATEGORIES:Main
END:VEVENT
BEGIN:VEVENT
DTSTART;TZID=America/New_York:20250808T093000
DTEND;TZID=America/New_York:20250808T120000
DTSTAMP:20260422T110459
CREATED:20250529T103847Z
LAST-MODIFIED:20250807T182343Z
UID:10004987-1754645400-1754654400@olla.org
SUMMARY:Freshman iPad Deployment
DESCRIPTION:
URL:https://olla.org/event/freshman-ipad-deployment-2/
LOCATION:Dining Hall
CATEGORIES:Main
END:VEVENT
BEGIN:VEVENT
DTSTART;TZID=America/New_York:20250808T130000
DTEND;TZID=America/New_York:20250808T150000
DTSTAMP:20260422T110459
CREATED:20250325T194045Z
LAST-MODIFIED:20250808T182350Z
UID:10004855-1754658000-1754665200@olla.org
SUMMARY:College Essay Wokshops
DESCRIPTION:
URL:https://olla.org/event/college-essay-wokshops/
LOCATION:FL
CATEGORIES:Main
END:VEVENT
BEGIN:VEVENT
DTSTART;TZID=America/New_York:20250808T130000
DTEND;TZID=America/New_York:20250808T193000
DTSTAMP:20260422T110459
CREATED:20250325T194045Z
LAST-MODIFIED:20250808T182350Z
UID:10004856-1754658000-1754681400@olla.org
SUMMARY:Peer Ministry Retreat & Workshop
DESCRIPTION:
URL:https://olla.org/event/peer-ministry-retreat-workshop/
LOCATION:FL
CATEGORIES:Main
END:VEVENT
BEGIN:VEVENT
DTSTART;TZID=America/New_York:20250809T090000
DTEND;TZID=America/New_York:20250809T110000
DTSTAMP:20260422T110459
CREATED:20250325T194045Z
LAST-MODIFIED:20250808T182351Z
UID:10004858-1754730000-1754737200@olla.org
SUMMARY:Freshman Parent Meeting
DESCRIPTION:
URL:https://olla.org/event/freshman-parent-meeting-2/
LOCATION:Gym
CATEGORIES:Featured,Main
END:VEVENT
BEGIN:VEVENT
DTSTART;TZID=America/New_York:20250809T090000
DTEND;TZID=America/New_York:20250809T130000
DTSTAMP:20260422T110459
CREATED:20250325T194045Z
LAST-MODIFIED:20250808T182351Z
UID:10004857-1754730000-1754744400@olla.org
SUMMARY:Peer Ministry Retreat & Workshop
DESCRIPTION:
URL:https://olla.org/event/peer-ministry-retreat-workshop-2/
LOCATION:Dining Hall & Chapel
CATEGORIES:Main
END:VEVENT
BEGIN:VEVENT
DTSTART;TZID=America/New_York:20250811T130000
DTEND;TZID=America/New_York:20250811T150000
DTSTAMP:20260422T110459
CREATED:20250529T103848Z
LAST-MODIFIED:20250811T185339Z
UID:10004988-1754917200-1754924400@olla.org
SUMMARY:Freshman iPad Deployment
DESCRIPTION:
URL:https://olla.org/event/freshman-ipad-deployment-3/
LOCATION:Auditorium
CATEGORIES:Main
END:VEVENT
BEGIN:VEVENT
DTSTART;VALUE=DATE:20250812
DTEND;VALUE=DATE:20250813
DTSTAMP:20260422T110459
CREATED:20250325T194046Z
LAST-MODIFIED:20250812T185736Z
UID:10004860-1754956800-1755043199@olla.org
SUMMARY:Freshman Photos
DESCRIPTION:
URL:https://olla.org/event/freshman-photos/
LOCATION:FL
CATEGORIES:Main
END:VEVENT
BEGIN:VEVENT
DTSTART;VALUE=DATE:20250812
DTEND;VALUE=DATE:20250813
DTSTAMP:20260422T110459
CREATED:20250325T194046Z
LAST-MODIFIED:20250812T185736Z
UID:10004861-1754956800-1755043199@olla.org
SUMMARY:Freshman Orientation
DESCRIPTION:
URL:https://olla.org/event/freshman-orientation-4/
LOCATION:FL
CATEGORIES:Featured,Main
END:VEVENT
BEGIN:VEVENT
DTSTART;VALUE=DATE:20250813
DTEND;VALUE=DATE:20250814
DTSTAMP:20260422T110459
CREATED:20250325T194045Z
LAST-MODIFIED:20250813T191236Z
UID:10004859-1755043200-1755129599@olla.org
SUMMARY:Special Schedule-All School Orientation
DESCRIPTION:
URL:https://olla.org/event/special-schedule-all-school-orientatio/
LOCATION:FL
CATEGORIES:Featured,Main
END:VEVENT
BEGIN:VEVENT
DTSTART;VALUE=DATE:20250813
DTEND;VALUE=DATE:20250814
DTSTAMP:20260422T110459
CREATED:20250328T195433Z
LAST-MODIFIED:20250813T191237Z
UID:10004866-1755043200-1755129599@olla.org
SUMMARY:Bell 2
DESCRIPTION:
URL:https://olla.org/event/bell-2-3/
LOCATION:FL
CATEGORIES:Main
END:VEVENT
BEGIN:VEVENT
DTSTART;VALUE=DATE:20250814
DTEND;VALUE=DATE:20250815
DTSTAMP:20260422T110459
CREATED:20250806T182348Z
LAST-MODIFIED:20250814T192341Z
UID:10005338-1755129600-1755215999@olla.org
SUMMARY:A Day
DESCRIPTION:
URL:https://olla.org/event/a-day-286/
LOCATION:FL
CATEGORIES:Main
END:VEVENT
END:VCALENDAR