BEGIN:VCALENDAR
VERSION:2.0
PRODID:-//Lourdes Academy - ECPv6.15.20//NONSGML v1.0//EN
CALSCALE:GREGORIAN
METHOD:PUBLISH
X-ORIGINAL-URL:https://olla.org
X-WR-CALDESC:Events for Lourdes Academy
REFRESH-INTERVAL;VALUE=DURATION:PT1H
X-Robots-Tag:noindex
X-PUBLISHED-TTL:PT1H
BEGIN:VTIMEZONE
TZID:America/New_York
BEGIN:DAYLIGHT
TZOFFSETFROM:-0500
TZOFFSETTO:-0400
TZNAME:EDT
DTSTART:20230312T070000
END:DAYLIGHT
BEGIN:STANDARD
TZOFFSETFROM:-0400
TZOFFSETTO:-0500
TZNAME:EST
DTSTART:20231105T060000
END:STANDARD
BEGIN:DAYLIGHT
TZOFFSETFROM:-0500
TZOFFSETTO:-0400
TZNAME:EDT
DTSTART:20240310T070000
END:DAYLIGHT
BEGIN:STANDARD
TZOFFSETFROM:-0400
TZOFFSETTO:-0500
TZNAME:EST
DTSTART:20241103T060000
END:STANDARD
BEGIN:DAYLIGHT
TZOFFSETFROM:-0500
TZOFFSETTO:-0400
TZNAME:EDT
DTSTART:20250309T070000
END:DAYLIGHT
BEGIN:STANDARD
TZOFFSETFROM:-0400
TZOFFSETTO:-0500
TZNAME:EST
DTSTART:20251102T060000
END:STANDARD
END:VTIMEZONE
BEGIN:VEVENT
DTSTART;TZID=America/New_York:20240509T113000
DTEND;TZID=America/New_York:20240509T123000
DTSTAMP:20260422T074440
CREATED:20231026T190055Z
LAST-MODIFIED:20240508T173212Z
UID:10001988-1715254200-1715257800@olla.org
SUMMARY:AP Psych
DESCRIPTION:
URL:https://olla.org/event/ap-psych/
LOCATION:FL
CATEGORIES:Main
END:VEVENT
BEGIN:VEVENT
DTSTART;TZID=America/New_York:20240509T143000
DTEND;TZID=America/New_York:20240509T150000
DTSTAMP:20260422T074440
CREATED:20240429T181651Z
LAST-MODIFIED:20240509T184655Z
UID:10003491-1715265000-1715266800@olla.org
SUMMARY:National Honor Society
DESCRIPTION:
URL:https://olla.org/event/national-honor-society-5/
LOCATION:Dining Hall
CATEGORIES:Clubs/Organizations
END:VEVENT
BEGIN:VEVENT
DTSTART;TZID=America/New_York:20240509T143000
DTEND;TZID=America/New_York:20240509T153000
DTSTAMP:20260422T074440
CREATED:20240429T181651Z
LAST-MODIFIED:20240509T184655Z
UID:10003490-1715265000-1715268600@olla.org
SUMMARY:Spanish Club
DESCRIPTION:
URL:https://olla.org/event/spanish-club-10/
LOCATION:Room B202
CATEGORIES:Clubs/Organizations
END:VEVENT
BEGIN:VEVENT
DTSTART;TZID=America/New_York:20240509T143500
DTEND;TZID=America/New_York:20240509T145000
DTSTAMP:20260422T074440
CREATED:20231026T190055Z
LAST-MODIFIED:20240509T174654Z
UID:10001989-1715265300-1715266200@olla.org
SUMMARY:Weekly Rosary
DESCRIPTION:
URL:https://olla.org/event/weekly-rosary-88/
LOCATION:FL
CATEGORIES:Main
END:VEVENT
BEGIN:VEVENT
DTSTART;VALUE=DATE:20240510
DTEND;VALUE=DATE:20240511
DTSTAMP:20260422T074440
CREATED:20231026T190056Z
LAST-MODIFIED:20240510T180209Z
UID:10002945-1715299200-1715385599@olla.org
SUMMARY:No Letter Day
DESCRIPTION:
URL:https://olla.org/event/no-letter-day/
LOCATION:FL
CATEGORIES:Main
END:VEVENT
BEGIN:VEVENT
DTSTART;VALUE=DATE:20240510
DTEND;VALUE=DATE:20240511
DTSTAMP:20260422T074440
CREATED:20231026T190056Z
LAST-MODIFIED:20240305T140032Z
UID:10002946-1715299200-1715385599@olla.org
SUMMARY:Senior Exam: Econ
DESCRIPTION:
URL:https://olla.org/event/senior-exam-econ/
LOCATION:FL
CATEGORIES:Main
END:VEVENT
BEGIN:VEVENT
DTSTART;TZID=America/New_York:20240510T072500
DTEND;TZID=America/New_York:20240510T082500
DTSTAMP:20260422T074440
CREATED:20231027T190040Z
LAST-MODIFIED:20240509T174654Z
UID:10002948-1715325900-1715329500@olla.org
SUMMARY:AP Euro\, AP US History\, AP Art & Design
DESCRIPTION:
URL:https://olla.org/event/ap-euro-ap-us-history-ap-art-design/
LOCATION:FL
CATEGORIES:Main
END:VEVENT
BEGIN:VEVENT
DTSTART;TZID=America/New_York:20240510T113000
DTEND;TZID=America/New_York:20240510T123000
DTSTAMP:20260422T074440
CREATED:20231028T191558Z
LAST-MODIFIED:20240509T174655Z
UID:10002949-1715340600-1715344200@olla.org
SUMMARY:AP Macro Econ\, AP Spanish Lit & Culture
DESCRIPTION:
URL:https://olla.org/event/ap-macro-econ-ap-spanish-lit-culture/
LOCATION:FL
CATEGORIES:Main
END:VEVENT
BEGIN:VEVENT
DTSTART;VALUE=DATE:20240512
DTEND;VALUE=DATE:20240513
DTSTAMP:20260422T074440
CREATED:20231019T181545Z
LAST-MODIFIED:20240512T180151Z
UID:10002903-1715472000-1715558399@olla.org
SUMMARY:AP Exams
DESCRIPTION:
URL:https://olla.org/event/ap-exams-3/
LOCATION:FL
CATEGORIES:Main
END:VEVENT
BEGIN:VEVENT
DTSTART;VALUE=DATE:20240512
DTEND;VALUE=DATE:20240513
DTSTAMP:20260422T074440
CREATED:20231030T191611Z
LAST-MODIFIED:20240512T180150Z
UID:10002954-1715472000-1715558399@olla.org
SUMMARY:AP Exams
DESCRIPTION:
URL:https://olla.org/event/ap-exams-4/
LOCATION:FL
CATEGORIES:Main
END:VEVENT
BEGIN:VEVENT
DTSTART;VALUE=DATE:20240513
DTEND;VALUE=DATE:20240514
DTSTAMP:20260422T074440
CREATED:20231101T193043Z
LAST-MODIFIED:20240513T180157Z
UID:10001990-1715558400-1715644799@olla.org
SUMMARY:B Day
DESCRIPTION:
URL:https://olla.org/event/b-day-169/
LOCATION:FL
CATEGORIES:Main
END:VEVENT
BEGIN:VEVENT
DTSTART;TZID=America/New_York:20240513T072500
DTEND;TZID=America/New_York:20240513T082500
DTSTAMP:20260422T074440
CREATED:20231029T191816Z
LAST-MODIFIED:20240512T180151Z
UID:10002951-1715585100-1715588700@olla.org
SUMMARY:AP Calculus
DESCRIPTION:
URL:https://olla.org/event/ap-calculus/
LOCATION:FL
CATEGORIES:Main
END:VEVENT
BEGIN:VEVENT
DTSTART;TZID=America/New_York:20240513T072500
DTEND;TZID=America/New_York:20240513T090000
DTSTAMP:20260422T074440
CREATED:20231031T193042Z
LAST-MODIFIED:20240512T180151Z
UID:10002956-1715585100-1715590800@olla.org
SUMMARY:Senior Exam: Math
DESCRIPTION:
URL:https://olla.org/event/senior-exam-math/
LOCATION:FL
CATEGORIES:Main
END:VEVENT
BEGIN:VEVENT
DTSTART;TZID=America/New_York:20240513T090500
DTEND;TZID=America/New_York:20240513T103500
DTSTAMP:20260422T074440
CREATED:20231024T185059Z
LAST-MODIFIED:20240512T180151Z
UID:10002926-1715591100-1715596500@olla.org
SUMMARY:Senior Exam: Theology
DESCRIPTION:
URL:https://olla.org/event/senior-exam-theology/
LOCATION:FL
CATEGORIES:Main
END:VEVENT
BEGIN:VEVENT
DTSTART;TZID=America/New_York:20240513T143000
DTEND;TZID=America/New_York:20240513T150000
DTSTAMP:20260422T074440
CREATED:20240512T191734Z
LAST-MODIFIED:20240512T191739Z
UID:10003496-1715610600-1715612400@olla.org
SUMMARY:P.A.C.K After School Bake Sale
DESCRIPTION:
URL:https://olla.org/event/p-a-c-k-after-school-bake-sale/
LOCATION:FL
CATEGORIES:Clubs/Organizations
END:VEVENT
BEGIN:VEVENT
DTSTART;TZID=America/New_York:20240513T180000
DTEND;TZID=America/New_York:20240513T183000
DTSTAMP:20260422T074440
CREATED:20231031T193043Z
LAST-MODIFIED:20240513T180157Z
UID:10002957-1715623200-1715625000@olla.org
SUMMARY:Spring Athletic Awards Reception
DESCRIPTION:
URL:https://olla.org/event/spring-athletic-awards-reception/
LOCATION:FL
CATEGORIES:Featured,Main
END:VEVENT
BEGIN:VEVENT
DTSTART;VALUE=DATE:20240514
DTEND;VALUE=DATE:20240515
DTSTAMP:20260422T074440
CREATED:20231029T191816Z
LAST-MODIFIED:20240514T180150Z
UID:10002952-1715644800-1715731199@olla.org
SUMMARY:A Day
DESCRIPTION:
URL:https://olla.org/event/a-day-184/
LOCATION:FL
CATEGORIES:Main
END:VEVENT
BEGIN:VEVENT
DTSTART;TZID=America/New_York:20240514T072500
DTEND;TZID=America/New_York:20240514T082500
DTSTAMP:20260422T074440
CREATED:20231101T193043Z
LAST-MODIFIED:20240513T180157Z
UID:10001991-1715671500-1715675100@olla.org
SUMMARY:AP English Lang & Comp.
DESCRIPTION:
URL:https://olla.org/event/ap-english-lang-comp/
LOCATION:FL
CATEGORIES:Main
END:VEVENT
BEGIN:VEVENT
DTSTART;TZID=America/New_York:20240514T072500
DTEND;TZID=America/New_York:20240514T090000
DTSTAMP:20260422T074440
CREATED:20231102T193113Z
LAST-MODIFIED:20240513T180157Z
UID:10002000-1715671500-1715677200@olla.org
SUMMARY:Senior Exams: English
DESCRIPTION:
URL:https://olla.org/event/senior-exams-english/
LOCATION:FL
CATEGORIES:Main
END:VEVENT
BEGIN:VEVENT
DTSTART;TZID=America/New_York:20240514T143000
DTEND;TZID=America/New_York:20240514T150000
DTSTAMP:20260422T074440
CREATED:20240429T181652Z
LAST-MODIFIED:20240513T193147Z
UID:10003492-1715697000-1715698800@olla.org
SUMMARY:P.A.C.K.
DESCRIPTION:
URL:https://olla.org/event/p-a-c-k-8/
LOCATION:Room 110
CATEGORIES:Clubs/Organizations
END:VEVENT
BEGIN:VEVENT
DTSTART;TZID=America/New_York:20240514T143000
DTEND;TZID=America/New_York:20240514T153000
DTSTAMP:20260422T074440
CREATED:20240429T181652Z
LAST-MODIFIED:20240513T193147Z
UID:10003493-1715697000-1715700600@olla.org
SUMMARY:Spanish National Honor Society
DESCRIPTION:
URL:https://olla.org/event/spanish-national-honor-society-8/
LOCATION:Room B202
CATEGORIES:Clubs/Organizations
END:VEVENT
BEGIN:VEVENT
DTSTART;VALUE=DATE:20240515
DTEND;VALUE=DATE:20240516
DTSTAMP:20260422T074440
CREATED:20231101T193043Z
LAST-MODIFIED:20240305T140035Z
UID:10001992-1715731200-1715817599@olla.org
SUMMARY:Senior Exams: Other
DESCRIPTION:
URL:https://olla.org/event/senior-exams-other-2/
LOCATION:FL
CATEGORIES:Main
END:VEVENT
BEGIN:VEVENT
DTSTART;VALUE=DATE:20240515
DTEND;VALUE=DATE:20240516
DTSTAMP:20260422T074440
CREATED:20231102T193112Z
LAST-MODIFIED:20240515T180158Z
UID:10001999-1715731200-1715817599@olla.org
SUMMARY:B Day
DESCRIPTION:
URL:https://olla.org/event/b-day-170/
LOCATION:FL
CATEGORIES:Main
END:VEVENT
BEGIN:VEVENT
DTSTART;VALUE=DATE:20240515
DTEND;VALUE=DATE:20240516
DTSTAMP:20260422T074440
CREATED:20231104T193047Z
LAST-MODIFIED:20240515T180157Z
UID:10002962-1715731200-1715817599@olla.org
SUMMARY:Bell 2 TeamOLLA Meeting
DESCRIPTION:
URL:https://olla.org/event/bell-2-teamolla-meeting/
LOCATION:FL
CATEGORIES:Main
END:VEVENT
BEGIN:VEVENT
DTSTART;TZID=America/New_York:20240515T072500
DTEND;TZID=America/New_York:20240515T082500
DTSTAMP:20260422T074440
CREATED:20231102T193113Z
LAST-MODIFIED:20240514T180149Z
UID:10002001-1715757900-1715761500@olla.org
SUMMARY:AP French Lang\, AP World History
DESCRIPTION:
URL:https://olla.org/event/ap-french-lang-ap-world-history/
LOCATION:FL
CATEGORIES:Main
END:VEVENT
BEGIN:VEVENT
DTSTART;TZID=America/New_York:20240515T072500
DTEND;TZID=America/New_York:20240515T085500
DTSTAMP:20260422T074440
CREATED:20231022T181538Z
LAST-MODIFIED:20240514T180149Z
UID:10001941-1715757900-1715763300@olla.org
SUMMARY:Senior Exam: US Gov.
DESCRIPTION:
URL:https://olla.org/event/senior-exam-us-gov/
LOCATION:FL
CATEGORIES:Main
END:VEVENT
BEGIN:VEVENT
DTSTART;TZID=America/New_York:20240515T113000
DTEND;TZID=America/New_York:20240515T123000
DTSTAMP:20260422T074440
CREATED:20231102T193113Z
LAST-MODIFIED:20240514T180149Z
UID:10002002-1715772600-1715776200@olla.org
SUMMARY:AP Computer Science Principles
DESCRIPTION:
URL:https://olla.org/event/ap-computer-science-principles/
LOCATION:FL
CATEGORIES:Main
END:VEVENT
BEGIN:VEVENT
DTSTART;TZID=America/New_York:20240515T183000
DTEND;TZID=America/New_York:20240515T190000
DTSTAMP:20260422T074440
CREATED:20240411T163126Z
LAST-MODIFIED:20240515T180158Z
UID:10003470-1715797800-1715799600@olla.org
SUMMARY:Track Awards Ceremony
DESCRIPTION:
URL:https://olla.org/event/track-awards-cefremony/
LOCATION:Our Lady of Lourdes Academy\, 5525 SW 84th St\, Miami\, FL 33143\, USA
CATEGORIES:Main
END:VEVENT
BEGIN:VEVENT
DTSTART;TZID=America/New_York:20240515T183000
DTEND;TZID=America/New_York:20240515T190000
DTSTAMP:20260422T074440
CREATED:20240412T130006Z
LAST-MODIFIED:20240515T134650Z
UID:10003471-1715797800-1715799600@olla.org
SUMMARY:Track Awards Ceremony
DESCRIPTION:
URL:https://olla.org/event/track-awards-cefremony-2/
LOCATION:Our Lady of Lourdes Academy\, 5525 SW 84th St\, Miami\, FL 33143\, USA
CATEGORIES:Track and Field
END:VEVENT
BEGIN:VEVENT
DTSTART;VALUE=DATE:20240516
DTEND;VALUE=DATE:20240517
DTSTAMP:20260422T074440
CREATED:20231015T181535Z
LAST-MODIFIED:20240516T180201Z
UID:10001926-1715817600-1715903999@olla.org
SUMMARY:Spring Musical Preview
DESCRIPTION:
URL:https://olla.org/event/spring-musical-preview/
LOCATION:FL
CATEGORIES:Main
END:VEVENT
END:VCALENDAR