BEGIN:VCALENDAR
VERSION:2.0
PRODID:-//Lourdes Academy - ECPv6.15.20//NONSGML v1.0//EN
CALSCALE:GREGORIAN
METHOD:PUBLISH
X-WR-CALNAME:Lourdes Academy
X-ORIGINAL-URL:https://olla.org
X-WR-CALDESC:Events for Lourdes Academy
REFRESH-INTERVAL;VALUE=DURATION:PT1H
X-Robots-Tag:noindex
X-PUBLISHED-TTL:PT1H
BEGIN:VTIMEZONE
TZID:America/New_York
BEGIN:DAYLIGHT
TZOFFSETFROM:-0500
TZOFFSETTO:-0400
TZNAME:EDT
DTSTART:20250309T070000
END:DAYLIGHT
BEGIN:STANDARD
TZOFFSETFROM:-0400
TZOFFSETTO:-0500
TZNAME:EST
DTSTART:20251102T060000
END:STANDARD
BEGIN:DAYLIGHT
TZOFFSETFROM:-0500
TZOFFSETTO:-0400
TZNAME:EDT
DTSTART:20260308T070000
END:DAYLIGHT
BEGIN:STANDARD
TZOFFSETFROM:-0400
TZOFFSETTO:-0500
TZNAME:EST
DTSTART:20261101T060000
END:STANDARD
BEGIN:DAYLIGHT
TZOFFSETFROM:-0500
TZOFFSETTO:-0400
TZNAME:EDT
DTSTART:20270314T070000
END:DAYLIGHT
BEGIN:STANDARD
TZOFFSETFROM:-0400
TZOFFSETTO:-0500
TZNAME:EST
DTSTART:20271107T060000
END:STANDARD
END:VTIMEZONE
BEGIN:VEVENT
DTSTART;VALUE=DATE:20260420
DTEND;VALUE=DATE:20260421
DTSTAMP:20260420T093625
CREATED:20251119T120929Z
LAST-MODIFIED:20260419T155341Z
UID:10005758-1776643200-1776729599@olla.org
SUMMARY:A Day
DESCRIPTION:
URL:https://olla.org/event/a-day-301/
LOCATION:FL
CATEGORIES:Main
END:VEVENT
BEGIN:VEVENT
DTSTART;VALUE=DATE:20260420
DTEND;VALUE=DATE:20260421
DTSTAMP:20260420T093625
CREATED:20260414T083855Z
LAST-MODIFIED:20260420T085332Z
UID:10006209-1776643200-1776729599@olla.org
SUMMARY:Live Like Bella Childhood Cancer Foundation Club
DESCRIPTION:
URL:https://olla.org/event/live-like-bella-childhood-cancer-foundation-club-11/
LOCATION:Dining Hall
CATEGORIES:Clubs/Organizations
END:VEVENT
BEGIN:VEVENT
DTSTART;TZID=America/New_York:20260420T183000
DTEND;TZID=America/New_York:20260420T190000
DTSTAMP:20260420T093625
CREATED:20260318T130921Z
LAST-MODIFIED:20260419T135336Z
UID:10006193-1776709800-1776711600@olla.org
SUMMARY:V. Softball vs Pace
DESCRIPTION:
URL:https://olla.org/event/v-softball-vs-pace/
LOCATION:Palmetto Bay Park\, 17399 SW 95th Ave\, Perrine\, FL\, United States
CATEGORIES:Main,Softball
GEO:25.608361;-80.346685
X-APPLE-STRUCTURED-LOCATION;VALUE=URI;X-ADDRESS=Palmetto Bay Park 17399 SW 95th Ave Perrine FL United States;X-APPLE-RADIUS=500;X-TITLE=17399 SW 95th Ave:geo:-80.346685,25.608361
END:VEVENT
BEGIN:VEVENT
DTSTART;VALUE=DATE:20260421
DTEND;VALUE=DATE:20260422
DTSTAMP:20260420T093625
CREATED:20251120T120926Z
LAST-MODIFIED:20260419T155341Z
UID:10005763-1776729600-1776815999@olla.org
SUMMARY:B Day
DESCRIPTION:
URL:https://olla.org/event/b-day-288/
LOCATION:FL
CATEGORIES:Main
END:VEVENT
BEGIN:VEVENT
DTSTART;VALUE=DATE:20260421
DTEND;VALUE=DATE:20260422
DTSTAMP:20260420T093625
CREATED:20260414T083853Z
LAST-MODIFIED:20260420T085332Z
UID:10006208-1776729600-1776815999@olla.org
SUMMARY:Bobcat Book Club
DESCRIPTION:
URL:https://olla.org/event/bobcat-book-club-14/
LOCATION:FL
CATEGORIES:Clubs/Organizations
END:VEVENT
BEGIN:VEVENT
DTSTART;TZID=America/New_York:20260421T091500
DTEND;TZID=America/New_York:20260421T103000
DTSTAMP:20260420T093625
CREATED:20251119T120929Z
LAST-MODIFIED:20260419T155341Z
UID:10005761-1776762900-1776767400@olla.org
SUMMARY:FOCUS: 2nd Jr. Encounter Renewal
DESCRIPTION:
URL:https://olla.org/event/focus-2nd-jr-encounter-renewal/
LOCATION:Chapel
CATEGORIES:Main
END:VEVENT
BEGIN:VEVENT
DTSTART;TZID=America/New_York:20260421T092000
DTEND;TZID=America/New_York:20260421T102000
DTSTAMP:20260420T093625
CREATED:20260323T143844Z
LAST-MODIFIED:20260419T155341Z
UID:10006197-1776763200-1776766800@olla.org
SUMMARY:FOCUS: Business Career Panel
DESCRIPTION:
URL:https://olla.org/event/focus-business-career-panel/
LOCATION:FL
CATEGORIES:Main
END:VEVENT
BEGIN:VEVENT
DTSTART;TZID=America/New_York:20260421T092000
DTEND;TZID=America/New_York:20260421T103000
DTSTAMP:20260420T093625
CREATED:20251119T120929Z
LAST-MODIFIED:20260419T155341Z
UID:10005760-1776763200-1776767400@olla.org
SUMMARY:FOCUS: Sophomore FOCUS Ghetty: Easter Theme
DESCRIPTION:
URL:https://olla.org/event/focus-sophomore-focus-fiesta-easter-theme/
LOCATION:FL
CATEGORIES:Main
END:VEVENT
BEGIN:VEVENT
DTSTART;TZID=America/New_York:20260421T144000
DTEND;TZID=America/New_York:20260421T161000
DTSTAMP:20260420T093625
CREATED:20251007T235427Z
LAST-MODIFIED:20260420T085332Z
UID:10005490-1776782400-1776787800@olla.org
SUMMARY:Respect Life x Sandwiches of Hope
DESCRIPTION:
URL:https://olla.org/event/respect-life-x-sandwiches-of-hope-6/
LOCATION:Dining Hall – CAFE SIDE
CATEGORIES:Clubs/Organizations
END:VEVENT
BEGIN:VEVENT
DTSTART;TZID=America/New_York:20260421T180000
DTEND;TZID=America/New_York:20260421T200000
DTSTAMP:20260420T093625
CREATED:20260313T142354Z
LAST-MODIFIED:20260419T155342Z
UID:10006174-1776794400-1776801600@olla.org
SUMMARY:Winter Athletic Award Ceremony
DESCRIPTION:
URL:https://olla.org/event/winter-athletic-award-ceremony/
LOCATION:Dining Hall
CATEGORIES:Main
END:VEVENT
BEGIN:VEVENT
DTSTART;VALUE=DATE:20260422
DTEND;VALUE=DATE:20260423
DTSTAMP:20260420T093625
CREATED:20251127T130921Z
LAST-MODIFIED:20260419T155342Z
UID:10005779-1776816000-1776902399@olla.org
SUMMARY:A Day  Bell 2   TeamOLLA Mtg.
DESCRIPTION:
URL:https://olla.org/event/a-day-bell-2-teamolla-mtg-7/
LOCATION:FL
CATEGORIES:Main
END:VEVENT
BEGIN:VEVENT
DTSTART;VALUE=DATE:20260422
DTEND;VALUE=DATE:20260423
DTSTAMP:20260420T093625
CREATED:20260414T083853Z
LAST-MODIFIED:20260420T085332Z
UID:10006207-1776816000-1776902399@olla.org
SUMMARY:French Club
DESCRIPTION:
URL:https://olla.org/event/french-club-24/
LOCATION:Fairchild Tropical Garden
CATEGORIES:Clubs/Organizations
END:VEVENT
BEGIN:VEVENT
DTSTART;TZID=America/New_York:20260422T140000
DTEND;TZID=America/New_York:20260422T160000
DTSTAMP:20260420T093625
CREATED:20251204T133912Z
LAST-MODIFIED:20260419T155342Z
UID:10005821-1776866400-1776873600@olla.org
SUMMARY:America 250
DESCRIPTION:
URL:https://olla.org/event/america-250/
LOCATION:Dining Hall & Breezeway
CATEGORIES:Main
END:VEVENT
BEGIN:VEVENT
DTSTART;TZID=America/New_York:20260422T180000
DTEND;TZID=America/New_York:20260422T200000
DTSTAMP:20260420T093625
CREATED:20260115T102336Z
LAST-MODIFIED:20260419T135336Z
UID:10005971-1776880800-1776888000@olla.org
SUMMARY:Softball vs Terra
DESCRIPTION:
URL:https://olla.org/event/softball-vs-terra-5/
LOCATION:Palmetto Bay Park\, 17399 SW 95th Ave\, Perrine\, FL\, United States
CATEGORIES:Main,Softball
GEO:25.608361;-80.346685
X-APPLE-STRUCTURED-LOCATION;VALUE=URI;X-ADDRESS=Palmetto Bay Park 17399 SW 95th Ave Perrine FL United States;X-APPLE-RADIUS=500;X-TITLE=17399 SW 95th Ave:geo:-80.346685,25.608361
END:VEVENT
BEGIN:VEVENT
DTSTART;VALUE=DATE:20260423
DTEND;VALUE=DATE:20260424
DTSTAMP:20260420T093625
CREATED:20251121T122416Z
LAST-MODIFIED:20260419T155353Z
UID:10005768-1776902400-1776988799@olla.org
SUMMARY:B Day
DESCRIPTION:
URL:https://olla.org/event/b-day-289/
LOCATION:FL
CATEGORIES:Main
END:VEVENT
BEGIN:VEVENT
DTSTART;VALUE=DATE:20260423
DTEND;VALUE=DATE:20260424
DTSTAMP:20260420T093625
CREATED:20260414T083853Z
LAST-MODIFIED:20260420T085332Z
UID:10006206-1776902400-1776988799@olla.org
SUMMARY:P.A.C.K. Club
DESCRIPTION:
URL:https://olla.org/event/p-a-c-k-club-8/
LOCATION:FL
CATEGORIES:Clubs/Organizations
END:VEVENT
BEGIN:VEVENT
DTSTART;TZID=America/New_York:20260423T070000
DTEND;TZID=America/New_York:20260423T072000
DTSTAMP:20260420T093625
CREATED:20251120T120926Z
LAST-MODIFIED:20260419T155353Z
UID:10005764-1776927600-1776928800@olla.org
SUMMARY:Daily Mass
DESCRIPTION:
URL:https://olla.org/event/daily-mass-56/
LOCATION:FL
CATEGORIES:Main
END:VEVENT
BEGIN:VEVENT
DTSTART;TZID=America/New_York:20260423T092000
DTEND;TZID=America/New_York:20260423T103000
DTSTAMP:20260420T093625
CREATED:20251121T122417Z
LAST-MODIFIED:20260419T155353Z
UID:10005769-1776936000-1776940200@olla.org
SUMMARY:FOCUS: All Juniors - Resume/Activities List Common App Workshop
DESCRIPTION:
URL:https://olla.org/event/focus-all-juniors-resume-activities-list-common-app-workshop/
LOCATION:Dining Hall
CATEGORIES:Main
END:VEVENT
BEGIN:VEVENT
DTSTART;TZID=America/New_York:20260423T143000
DTEND;TZID=America/New_York:20260423T144500
DTSTAMP:20260420T093625
CREATED:20240531T183257Z
LAST-MODIFIED:20240602T183222Z
UID:10003643-1776954600-1776955500@olla.org
SUMMARY:Weekly Rosary
DESCRIPTION:
URL:https://olla.org/event/weekly-rosary-175/
LOCATION:FL
CATEGORIES:Main
END:VEVENT
BEGIN:VEVENT
DTSTART;TZID=America/New_York:20260423T143500
DTEND;TZID=America/New_York:20260423T150500
DTSTAMP:20260420T093625
CREATED:20251120T120927Z
LAST-MODIFIED:20260419T155353Z
UID:10005765-1776954900-1776956700@olla.org
SUMMARY:Weekly Rosary & Adoration
DESCRIPTION:Join with Google Meet: https://meet.google.com/ouo-tqkh-kqc\nLearn more about Meet at: https://support.google.com/a/users/answer/9282720
URL:https://olla.org/event/weekly-rosary-211/
LOCATION:Grotto
CATEGORIES:Main
END:VEVENT
BEGIN:VEVENT
DTSTART;TZID=America/New_York:20260423T144000
DTEND;TZID=America/New_York:20260423T153000
DTSTAMP:20260420T093625
CREATED:20260414T083852Z
LAST-MODIFIED:20260420T085332Z
UID:10006205-1776955200-1776958200@olla.org
SUMMARY:STEM Club
DESCRIPTION:
URL:https://olla.org/event/stem-club-22/
LOCATION:Room 204
CATEGORIES:Clubs/Organizations
END:VEVENT
BEGIN:VEVENT
DTSTART;VALUE=DATE:20260424
DTEND;VALUE=DATE:20260425
DTSTAMP:20260420T093625
CREATED:20251121T122417Z
LAST-MODIFIED:20260413T185655Z
UID:10005772-1776988800-1777075199@olla.org
SUMMARY:Golf Tournament
DESCRIPTION:
URL:https://olla.org/event/golf-tournament/
LOCATION:FL
CATEGORIES:Golf,Main
END:VEVENT
BEGIN:VEVENT
DTSTART;TZID=America/New_York:20260424T072500
DTEND;TZID=America/New_York:20260424T120000
DTSTAMP:20260420T093625
CREATED:20251121T122417Z
LAST-MODIFIED:20260419T155353Z
UID:10005770-1777015500-1777032000@olla.org
SUMMARY:Spirit Day - No letter day
DESCRIPTION:
URL:https://olla.org/event/spirit-day-no-letter-day/
LOCATION:FL
CATEGORIES:Featured,Main
END:VEVENT
BEGIN:VEVENT
DTSTART;TZID=America/New_York:20260424T123000
DTEND;TZID=America/New_York:20260424T163000
DTSTAMP:20260420T093625
CREATED:20260414T083855Z
LAST-MODIFIED:20260420T085332Z
UID:10006210-1777033800-1777048200@olla.org
SUMMARY:CHEM Club
DESCRIPTION:
URL:https://olla.org/event/chem-club-25/
LOCATION:Off Campus
CATEGORIES:Clubs/Organizations
END:VEVENT
BEGIN:VEVENT
DTSTART;TZID=America/New_York:20260424T140000
DTEND;TZID=America/New_York:20260424T190000
DTSTAMP:20260420T093625
CREATED:20260313T142355Z
LAST-MODIFIED:20260419T155353Z
UID:10006176-1777039200-1777057200@olla.org
SUMMARY:Cheer Clinic-GYM
DESCRIPTION:
URL:https://olla.org/event/cheer-clinic-gym-4/
LOCATION:FL
CATEGORIES:Cheerleading,Main
END:VEVENT
BEGIN:VEVENT
DTSTART;VALUE=DATE:20260425
DTEND;VALUE=DATE:20260426
DTSTAMP:20260420T093625
CREATED:20251121T122417Z
LAST-MODIFIED:20260419T155343Z
UID:10005771-1777075200-1777161599@olla.org
SUMMARY:Senior Prom
DESCRIPTION:
URL:https://olla.org/event/senior-prom-5/
LOCATION:FL
CATEGORIES:Main
END:VEVENT
BEGIN:VEVENT
DTSTART;TZID=America/New_York:20260425T090000
DTEND;TZID=America/New_York:20260425T150000
DTSTAMP:20260420T093625
CREATED:20260313T142355Z
LAST-MODIFIED:20260419T155353Z
UID:10006177-1777107600-1777129200@olla.org
SUMMARY:Cheer Tryouts-Gym
DESCRIPTION:
URL:https://olla.org/event/cheer-tryouts-gym-2/
LOCATION:FL
CATEGORIES:Cheerleading,Main
END:VEVENT
BEGIN:VEVENT
DTSTART;VALUE=DATE:20260426
DTEND;VALUE=DATE:20260427
DTSTAMP:20260420T093625
CREATED:20251124T122926Z
LAST-MODIFIED:20260419T155353Z
UID:10005775-1777161600-1777247999@olla.org
SUMMARY:Senior Week
DESCRIPTION:
URL:https://olla.org/event/senior-week-4/
LOCATION:FL
CATEGORIES:Main
END:VEVENT
BEGIN:VEVENT
DTSTART;VALUE=DATE:20260427
DTEND;VALUE=DATE:20260428
DTSTAMP:20260420T093625
CREATED:20251123T122414Z
LAST-MODIFIED:20260419T155353Z
UID:10005774-1777248000-1777334399@olla.org
SUMMARY:A Day
DESCRIPTION:
URL:https://olla.org/event/a-day-302/
LOCATION:FL
CATEGORIES:Main
END:VEVENT
BEGIN:VEVENT
DTSTART;TZID=America/New_York:20260427T144000
DTEND;TZID=America/New_York:20260427T153000
DTSTAMP:20260420T093625
CREATED:20260203T040855Z
LAST-MODIFIED:20260420T085333Z
UID:10006035-1777300800-1777303800@olla.org
SUMMARY:General Student Council
DESCRIPTION:
URL:https://olla.org/event/general-student-council-11/
LOCATION:FL
CATEGORIES:Clubs/Organizations
END:VEVENT
END:VCALENDAR