BEGIN:VCALENDAR
VERSION:2.0
PRODID:-//Lourdes Academy - ECPv6.15.20//NONSGML v1.0//EN
CALSCALE:GREGORIAN
METHOD:PUBLISH
X-WR-CALNAME:Lourdes Academy
X-ORIGINAL-URL:https://olla.org
X-WR-CALDESC:Events for Lourdes Academy
REFRESH-INTERVAL;VALUE=DURATION:PT1H
X-Robots-Tag:noindex
X-PUBLISHED-TTL:PT1H
BEGIN:VTIMEZONE
TZID:America/New_York
BEGIN:DAYLIGHT
TZOFFSETFROM:-0500
TZOFFSETTO:-0400
TZNAME:EDT
DTSTART:20240310T070000
END:DAYLIGHT
BEGIN:STANDARD
TZOFFSETFROM:-0400
TZOFFSETTO:-0500
TZNAME:EST
DTSTART:20241103T060000
END:STANDARD
BEGIN:DAYLIGHT
TZOFFSETFROM:-0500
TZOFFSETTO:-0400
TZNAME:EDT
DTSTART:20250309T070000
END:DAYLIGHT
BEGIN:STANDARD
TZOFFSETFROM:-0400
TZOFFSETTO:-0500
TZNAME:EST
DTSTART:20251102T060000
END:STANDARD
BEGIN:DAYLIGHT
TZOFFSETFROM:-0500
TZOFFSETTO:-0400
TZNAME:EDT
DTSTART:20260308T070000
END:DAYLIGHT
BEGIN:STANDARD
TZOFFSETFROM:-0400
TZOFFSETTO:-0500
TZNAME:EST
DTSTART:20261101T060000
END:STANDARD
END:VTIMEZONE
BEGIN:VEVENT
DTSTART;VALUE=DATE:20250530
DTEND;VALUE=DATE:20250531
DTSTAMP:20260422T091757
CREATED:20241212T224653Z
LAST-MODIFIED:20250530T103854Z
UID:10004494-1748563200-1748649599@olla.org
SUMMARY:Final Exams
DESCRIPTION:
URL:https://olla.org/event/final-exams-9/
LOCATION:FL
CATEGORIES:Main
END:VEVENT
BEGIN:VEVENT
DTSTART;TZID=America/New_York:20250529T143500
DTEND;TZID=America/New_York:20250529T150000
DTSTAMP:20260422T091757
CREATED:20250502T235354Z
LAST-MODIFIED:20250529T012352Z
UID:10004982-1748529300-1748530800@olla.org
SUMMARY:Care Club
DESCRIPTION:
URL:https://olla.org/event/care-club-15/
LOCATION:Room 211
CATEGORIES:Clubs/Organizations
END:VEVENT
BEGIN:VEVENT
DTSTART;TZID=America/New_York:20250529T143000
DTEND;TZID=America/New_York:20250529T144500
DTSTAMP:20260422T091757
CREATED:20240531T183239Z
LAST-MODIFIED:20240602T183215Z
UID:10003596-1748529000-1748529900@olla.org
SUMMARY:Weekly Rosary
DESCRIPTION:
URL:https://olla.org/event/weekly-rosary-128/
LOCATION:FL
CATEGORIES:Main
END:VEVENT
BEGIN:VEVENT
DTSTART;TZID=America/New_York:20250529T091500
DTEND;TZID=America/New_York:20250529T104500
DTSTAMP:20260422T091757
CREATED:20241212T224652Z
LAST-MODIFIED:20250529T103842Z
UID:10004493-1748510100-1748515500@olla.org
SUMMARY:FOCUS: End of Year Mass
DESCRIPTION:
URL:https://olla.org/event/focus-end-of-year-mass-2/
LOCATION:Gym
CATEGORIES:Main
END:VEVENT
BEGIN:VEVENT
DTSTART;VALUE=DATE:20250529
DTEND;VALUE=DATE:20250530
DTSTAMP:20260422T091757
CREATED:20241212T224653Z
LAST-MODIFIED:20250529T103842Z
UID:10004495-1748476800-1748563199@olla.org
SUMMARY:B Day
DESCRIPTION:
URL:https://olla.org/event/b-day-236/
LOCATION:FL
CATEGORIES:Main
END:VEVENT
BEGIN:VEVENT
DTSTART;VALUE=DATE:20250528
DTEND;VALUE=DATE:20250529
DTSTAMP:20260422T091757
CREATED:20241212T224652Z
LAST-MODIFIED:20250528T102345Z
UID:10004491-1748390400-1748476799@olla.org
SUMMARY:A Day Bell 2 TeamOLLA Mtg.
DESCRIPTION:
URL:https://olla.org/event/a-day-bell-2-teamolla-mtg-4/
LOCATION:FL
CATEGORIES:Main
END:VEVENT
BEGIN:VEVENT
DTSTART;TZID=America/New_York:20250527T092000
DTEND;TZID=America/New_York:20250527T103000
DTSTAMP:20260422T091757
CREATED:20241212T224652Z
LAST-MODIFIED:20250527T100850Z
UID:10004492-1748337600-1748341800@olla.org
SUMMARY:FOCUS: Rising Senior Getty - Class of 2026
DESCRIPTION:
URL:https://olla.org/event/focus-rising-senior-getty/
LOCATION:FL
CATEGORIES:Main
END:VEVENT
BEGIN:VEVENT
DTSTART;VALUE=DATE:20250527
DTEND;VALUE=DATE:20250528
DTSTAMP:20260422T091757
CREATED:20241212T224652Z
LAST-MODIFIED:20250527T100850Z
UID:10004490-1748304000-1748390399@olla.org
SUMMARY:B Day
DESCRIPTION:
URL:https://olla.org/event/b-day-235/
LOCATION:FL
CATEGORIES:Main
END:VEVENT
BEGIN:VEVENT
DTSTART;VALUE=DATE:20250526
DTEND;VALUE=DATE:20250527
DTSTAMP:20260422T091757
CREATED:20241212T224652Z
LAST-MODIFIED:20250526T095347Z
UID:10004489-1748217600-1748303999@olla.org
SUMMARY:Memorial Day (No School)
DESCRIPTION:
URL:https://olla.org/event/memorial-day-no-school-2/
LOCATION:FL
CATEGORIES:Featured,Main
END:VEVENT
BEGIN:VEVENT
DTSTART;VALUE=DATE:20250523
DTEND;VALUE=DATE:20250524
DTSTAMP:20260422T091757
CREATED:20241211T223319Z
LAST-MODIFIED:20250523T093846Z
UID:10004487-1747958400-1748044799@olla.org
SUMMARY:No School
DESCRIPTION:
URL:https://olla.org/event/no-school-20/
LOCATION:FL
CATEGORIES:Featured,Main
END:VEVENT
BEGIN:VEVENT
DTSTART;TZID=America/New_York:20250522T180000
DTEND;TZID=America/New_York:20250522T200000
DTSTAMP:20260422T091757
CREATED:20241211T223319Z
LAST-MODIFIED:20250522T093840Z
UID:10004488-1747936800-1747944000@olla.org
SUMMARY:Graduation
DESCRIPTION:
URL:https://olla.org/event/graduation-4/
LOCATION:Watsco Center\, UM
CATEGORIES:Featured,Main
END:VEVENT
BEGIN:VEVENT
DTSTART;TZID=America/New_York:20250522T153000
DTEND;TZID=America/New_York:20250522T200000
DTSTAMP:20260422T091757
CREATED:20250429T230921Z
LAST-MODIFIED:20250522T093840Z
UID:10004964-1747927800-1747944000@olla.org
SUMMARY:Dance Choreography-Gym
DESCRIPTION:
URL:https://olla.org/event/dance-choreography-gym-4/
LOCATION:FL
CATEGORIES:Main
END:VEVENT
BEGIN:VEVENT
DTSTART;TZID=America/New_York:20250522T143000
DTEND;TZID=America/New_York:20250522T144500
DTSTAMP:20260422T091757
CREATED:20240531T183239Z
LAST-MODIFIED:20240602T183215Z
UID:10003595-1747924200-1747925100@olla.org
SUMMARY:Weekly Rosary
DESCRIPTION:
URL:https://olla.org/event/weekly-rosary-127/
LOCATION:FL
CATEGORIES:Main
END:VEVENT
BEGIN:VEVENT
DTSTART;TZID=America/New_York:20250522T070000
DTEND;TZID=America/New_York:20250522T072000
DTSTAMP:20260422T091757
CREATED:20241210T220707Z
LAST-MODIFIED:20250522T093840Z
UID:10004484-1747897200-1747898400@olla.org
SUMMARY:Weekly Mass
DESCRIPTION:
URL:https://olla.org/event/weekly-mass-63/
LOCATION:FL
CATEGORIES:Main
END:VEVENT
BEGIN:VEVENT
DTSTART;VALUE=DATE:20250522
DTEND;VALUE=DATE:20250523
DTSTAMP:20260422T091757
CREATED:20241210T220707Z
LAST-MODIFIED:20250522T093840Z
UID:10004483-1747872000-1747958399@olla.org
SUMMARY:A Day Bell 3
DESCRIPTION:
URL:https://olla.org/event/a-day-bell-3-9/
LOCATION:FL
CATEGORIES:Main
END:VEVENT
BEGIN:VEVENT
DTSTART;TZID=America/New_York:20250521T153000
DTEND;TZID=America/New_York:20250521T200000
DTSTAMP:20260422T091757
CREATED:20250429T230920Z
LAST-MODIFIED:20250521T093957Z
UID:10004963-1747841400-1747857600@olla.org
SUMMARY:Dance Choreography-Gym
DESCRIPTION:
URL:https://olla.org/event/dance-choreography-gym-3/
LOCATION:FL
CATEGORIES:Main
END:VEVENT
BEGIN:VEVENT
DTSTART;TZID=America/New_York:20250521T143000
DTEND;TZID=America/New_York:20250521T151500
DTSTAMP:20260422T091757
CREATED:20250502T235354Z
LAST-MODIFIED:20250521T005400Z
UID:10004981-1747837800-1747840500@olla.org
SUMMARY:bLu Crew Club
DESCRIPTION:
URL:https://olla.org/event/blu-crew-club-18/
LOCATION:Dining Hall
CATEGORIES:Clubs/Organizations
END:VEVENT
BEGIN:VEVENT
DTSTART;TZID=America/New_York:20250521T092000
DTEND;TZID=America/New_York:20250521T102000
DTSTAMP:20260422T091757
CREATED:20250204T142428Z
LAST-MODIFIED:20250521T093956Z
UID:10004707-1747819200-1747822800@olla.org
SUMMARY:FOCUS: Thrive
DESCRIPTION:
URL:https://olla.org/event/focus-thrive-4/
LOCATION:FL
CATEGORIES:Main
END:VEVENT
BEGIN:VEVENT
DTSTART;TZID=America/New_York:20250521T090000
DTEND;TZID=America/New_York:20250521T120000
DTSTAMP:20260422T091757
CREATED:20241210T220707Z
LAST-MODIFIED:20250521T093956Z
UID:10004482-1747818000-1747828800@olla.org
SUMMARY:Graduation Practice
DESCRIPTION:
URL:https://olla.org/event/graduation-practice-4/
LOCATION:FL
CATEGORIES:Main
END:VEVENT
BEGIN:VEVENT
DTSTART;VALUE=DATE:20250521
DTEND;VALUE=DATE:20250522
DTSTAMP:20260422T091757
CREATED:20241210T220706Z
LAST-MODIFIED:20250521T093956Z
UID:10004480-1747785600-1747871999@olla.org
SUMMARY:B Day Bell 2
DESCRIPTION:
URL:https://olla.org/event/b-day-bell-2-26/
LOCATION:FL
CATEGORIES:Main
END:VEVENT
BEGIN:VEVENT
DTSTART;TZID=America/New_York:20250520T190000
DTEND;TZID=America/New_York:20250520T203000
DTSTAMP:20260422T091757
CREATED:20241210T220706Z
LAST-MODIFIED:20250520T093844Z
UID:10004481-1747767600-1747773000@olla.org
SUMMARY:Baccalaureate Mass
DESCRIPTION:
URL:https://olla.org/event/baccalaureate-mass-4/
LOCATION:Epiphany
CATEGORIES:Featured,Main
END:VEVENT
BEGIN:VEVENT
DTSTART;TZID=America/New_York:20250520T153000
DTEND;TZID=America/New_York:20250520T200000
DTSTAMP:20260422T091757
CREATED:20250429T230920Z
LAST-MODIFIED:20250520T093844Z
UID:10004962-1747755000-1747771200@olla.org
SUMMARY:Dance Choreography-Gym
DESCRIPTION:
URL:https://olla.org/event/dance-choreography-gym-2/
LOCATION:FL
CATEGORIES:Main
END:VEVENT
BEGIN:VEVENT
DTSTART;TZID=America/New_York:20250520T143500
DTEND;TZID=America/New_York:20250520T150000
DTSTAMP:20260422T091757
CREATED:20250502T235353Z
LAST-MODIFIED:20250520T005339Z
UID:10004979-1747751700-1747753200@olla.org
SUMMARY:Bobcat Book Club
DESCRIPTION:
URL:https://olla.org/event/bobcat-book-club-9/
LOCATION:Room 211
CATEGORIES:Clubs/Organizations
END:VEVENT
BEGIN:VEVENT
DTSTART;TZID=America/New_York:20250520T143000
DTEND;TZID=America/New_York:20250520T153000
DTSTAMP:20260422T091757
CREATED:20250502T235354Z
LAST-MODIFIED:20250520T005339Z
UID:10004980-1747751400-1747755000@olla.org
SUMMARY:CHEM Club
DESCRIPTION:
URL:https://olla.org/event/chem-club-18/
LOCATION:Room 206
CATEGORIES:Clubs/Organizations
END:VEVENT
BEGIN:VEVENT
DTSTART;VALUE=DATE:20250520
DTEND;VALUE=DATE:20250521
DTSTAMP:20260422T091757
CREATED:20241210T220706Z
LAST-MODIFIED:20250520T093844Z
UID:10004479-1747699200-1747785599@olla.org
SUMMARY:A Day
DESCRIPTION:
URL:https://olla.org/event/a-day-247/
LOCATION:FL
CATEGORIES:Main
END:VEVENT
BEGIN:VEVENT
DTSTART;TZID=America/New_York:20250519T153000
DTEND;TZID=America/New_York:20250519T200000
DTSTAMP:20260422T091757
CREATED:20250429T230919Z
LAST-MODIFIED:20250519T093946Z
UID:10004961-1747668600-1747684800@olla.org
SUMMARY:Dance Choreography -Gym
DESCRIPTION:
URL:https://olla.org/event/dance-choreography-gym/
LOCATION:FL
CATEGORIES:Main
END:VEVENT
BEGIN:VEVENT
DTSTART;TZID=America/New_York:20250519T144000
DTEND;TZID=America/New_York:20250519T154000
DTSTAMP:20260422T091757
CREATED:20241116T102057Z
LAST-MODIFIED:20250519T004119Z
UID:10004382-1747665600-1747669200@olla.org
SUMMARY:General Council Meeting (New Council)
DESCRIPTION:
URL:https://olla.org/event/general-council-meeting-new-council-2/
LOCATION:Sister Agnese Presentation Center
CATEGORIES:Clubs/Organizations
END:VEVENT
BEGIN:VEVENT
DTSTART;TZID=America/New_York:20250519T143000
DTEND;TZID=America/New_York:20250519T153000
DTSTAMP:20260422T091757
CREATED:20250502T235353Z
LAST-MODIFIED:20250519T004119Z
UID:10004978-1747665000-1747668600@olla.org
SUMMARY:Key Club
DESCRIPTION:
URL:https://olla.org/event/key-club-19/
LOCATION:Dining Hall
CATEGORIES:Clubs/Organizations
END:VEVENT
BEGIN:VEVENT
DTSTART;TZID=America/New_York:20250519T143000
DTEND;TZID=America/New_York:20250519T151500
DTSTAMP:20260422T091757
CREATED:20250502T235353Z
LAST-MODIFIED:20250519T004119Z
UID:10004977-1747665000-1747667700@olla.org
SUMMARY:The Lolatech Club
DESCRIPTION:
URL:https://olla.org/event/the-lolatech-club-9/
LOCATION:Lab 200
CATEGORIES:Clubs/Organizations
END:VEVENT
BEGIN:VEVENT
DTSTART;TZID=America/New_York:20250519T110000
DTEND;TZID=America/New_York:20250519T123000
DTSTAMP:20260422T091757
CREATED:20241209T220226Z
LAST-MODIFIED:20250519T093945Z
UID:10004477-1747652400-1747657800@olla.org
SUMMARY:Senior Get-Together/Yearbook & Ticket Distribution
DESCRIPTION:
URL:https://olla.org/event/senior-get-together-yearbook-ticket-distribution/
LOCATION:FL
CATEGORIES:Main
END:VEVENT
END:VCALENDAR